BEGIN:VCALENDAR
CALSCALE:GREGORIAN
X-WR-TIMEZONE;VALUE=TEXT:GMT
PRODID:PEAK Corporation - piCal -
X-WR-CALNAME;VALUE=TEXT:サムライ・ニンジャフェスティバル 2022
VERSION:2.0
METHOD:PUBLISH
BEGIN:VTIMEZONE
TZID:GMT
BEGIN:STANDARD
DTSTART:19390101T000000
TZOFFSETFROM:+0000
TZOFFSETTO:+0000
TZNAME:GMT
END:STANDARD
END:VTIMEZONE
BEGIN:VEVENT
DTSTART:20221120T010000Z
DTEND:20221120T070000Z
LOCATION:
TRANSP:OPAQUE
SEQUENCE:0
UID:pical060-f694aaf3475d94ed149288cc90934928
DTSTAMP:20221116T150404Z
CATEGORIES:イベント
DESCRIPTION:<a href="https://okehazama.net/modules/osirase/index.php?page=article&amp;storyid=330" rel="external">https://okehazama.net/modules/osirase/index.php?page=article&amp;storyid=330</a>
SUMMARY:サムライ・ニンジャフェスティバル 2022
PRIORITY:0
CLASS:PUBLIC
END:VEVENT
END:VCALENDAR
