BEGIN:VCALENDAR
CALSCALE:GREGORIAN
X-WR-TIMEZONE;VALUE=TEXT:GMT
PRODID:PEAK Corporation - piCal -
X-WR-CALNAME;VALUE=TEXT:万灯会・桶狭間古戦場まつり
VERSION:2.0
METHOD:PUBLISH
BEGIN:VTIMEZONE
TZID:GMT
BEGIN:STANDARD
DTSTART:19390101T000000
TZOFFSETFROM:+0000
TZOFFSETTO:+0000
TZNAME:GMT
END:STANDARD
END:VTIMEZONE
BEGIN:VEVENT
DTSTART:20230514T003000Z
DTEND:20230514T110000Z
LOCATION:
TRANSP:OPAQUE
SEQUENCE:0
UID:pical060-0e76ef00a02f47272f6879e44f302dda
DTSTAMP:20230509T153038Z
CATEGORIES:
DESCRIPTION:
SUMMARY:万灯会・桶狭間古戦場まつり
PRIORITY:0
CLASS:PUBLIC
END:VEVENT
END:VCALENDAR
